BEGIN:VCALENDAR
VERSION:2.0
CALSCALE:GREGORIAN
PRODID:-//Diputació de Barcelona//DibaCMS//EN
BEGIN:VEVENT
UID:2633
DTSTAMP:20260422T131720
DTSTART:20151024T110000
DTEND:20151024T000000
SUMMARY:FUTBOL 7 PREBENJAMÍ: C.F. ULLASTRELL- PB RAMON LLORENS "a"
LOCATION:
METHOD:PUBLISH
X-WR-CALNAME:ullastrell@ullastrell.cat
X-WR-TIMEZONE:Europe/Madrid
DESCRIPTION:FUTBOL 7 CATEGORIA PREBENJAMÍPARTIT DE FUTBOL 7 CATEGORIA PREBENJAMÍ, CAMPIONAT ESCOLAR CURS 2015-2016Lloc: CAMP DE FUTBOL MUNICIPALOrganitzador: C.F.ULLASTRELL
URI:https://www.ullastrell.cat/actualitat/agenda/futbol-7-prebenjami-cf-ullastrell-pb-ramon-llorens-a.html
CLASS:PUBLIC
END:VEVENT
END:VCALENDAR
