BEGIN:VCALENDAR
VERSION:2.0
CALSCALE:GREGORIAN
PRODID:-//Diputació de Barcelona//DibaCMS//EN
BEGIN:VEVENT
UID:2634
DTSTAMP:20260423T033135
DTSTART:20151024T123000
DTEND:20151024T000000
SUMMARY:FUTBOL 7 ALEVÍ: C.F.ULLASTRELL- SAGRAT COR
LOCATION:
METHOD:PUBLISH
X-WR-CALNAME:ullastrell@ullastrell.cat
X-WR-TIMEZONE:Europe/Madrid
DESCRIPTION:PARTIT DE FUTBOL 7 CATEGORIA ALEVÍPARTIT DE FUTBOL 7 CATEGORIA ALEVÍ, JOCS ESCOLARS CURS 2015-2016Lloc: CAMP DE FUTBOL MUNICIPALOrganitzador: F.C.ULLASTRELL
URI:https://www.ullastrell.cat/actualitat/agenda/futbol-7-alevi-cfullastrell-sagrat-cor.html
CLASS:PUBLIC
END:VEVENT
END:VCALENDAR
