BEGIN:VCALENDAR
VERSION:2.0
CALSCALE:GREGORIAN
PRODID:-//Diputació de Barcelona//DibaCMS//EN
BEGIN:VEVENT
UID:2635
DTSTAMP:20260422T162929
DTSTART:20151107T101500
DTEND:20151107T000000
SUMMARY:FUTBOL ALEVÍ: AVENÇ -C.F.ULLASTRELL  
LOCATION:
METHOD:PUBLISH
X-WR-CALNAME:ullastrell@ullastrell.cat
X-WR-TIMEZONE:Europe/Madrid
DESCRIPTION:FUTBOL ALEVÍPartit de futbol 7 categoria aleví, campionat escolar curs 2015-2016Lloc: CAMP MUNICIPAL GUINARDERA- SANT CUGAT DEL VALLÈSOrganitzador: C.F.ULLASTRELL
URI:https://www.ullastrell.cat/actualitat/agenda/futbol-alevi-avenc-cfullastrell-.html
CLASS:PUBLIC
END:VEVENT
END:VCALENDAR
