BEGIN:VCALENDAR
VERSION:2.0
CALSCALE:GREGORIAN
PRODID:-//Diputació de Barcelona//DibaCMS//EN
BEGIN:VEVENT
UID:2636
DTSTAMP:20260422T131655
DTSTART:20151107T120000
DTEND:20151107T000000
SUMMARY:FUTBOL PREBENJAMÍ: ESCOLA THAU- C.F.ULLASTRELL
LOCATION:
METHOD:PUBLISH
X-WR-CALNAME:ullastrell@ullastrell.cat
X-WR-TIMEZONE:Europe/Madrid
DESCRIPTION:FUTBOL PREBENJAMÍPartit de futbol categoria prebenjamí, campionat escolar curs 2015-2016Lloc: CAM FUTBOL THAU, SANT CUGAT DEL VALLÈSOrganitzador: C.F.ULLASTRELL
URI:https://www.ullastrell.cat/actualitat/agenda/futbol-prebenjami-escola-thau-cfullastrell.html
CLASS:PUBLIC
END:VEVENT
END:VCALENDAR
