BEGIN:VCALENDAR
VERSION:2.0
CALSCALE:GREGORIAN
PRODID:-//Diputació de Barcelona//DibaCMS//EN
BEGIN:VEVENT
UID:2637
DTSTAMP:20260422T162502
DTSTART:20151107T103000
DTEND:20151107T000000
SUMMARY:FUTBOL PREBENJAMÍ: C.F.RIPOLLET- C.F.ULLASTRELL
LOCATION:
METHOD:PUBLISH
X-WR-CALNAME:ullastrell@ullastrell.cat
X-WR-TIMEZONE:Europe/Madrid
DESCRIPTION:PARTIT DE FUTBOL PREBENJAMÍPartit de futbol categoria prebenjamí, campionat escolar curs 2015-2016Lloc: CAMP MPAL. RIPOLLETOrganitzador: C.F.ULLASTRELL
URI:https://www.ullastrell.cat/actualitat/agenda/futbol-prebenjami-cfripollet-cfullastrell.html
CLASS:PUBLIC
END:VEVENT
END:VCALENDAR
