BEGIN:VCALENDAR
VERSION:2.0
CALSCALE:GREGORIAN
PRODID:-//Diputació de Barcelona//DibaCMS//EN
BEGIN:VEVENT
UID:2638
DTSTAMP:20260423T020250
DTSTART:20151031T183000
DTEND:20151031T000000
SUMMARY:FUTBOL AMATEUR:  ULLASTRELL C.F.- ESCOLA VILADECAVALLS
LOCATION:
METHOD:PUBLISH
X-WR-CALNAME:ullastrell@ullastrell.cat
X-WR-TIMEZONE:Europe/Madrid
DESCRIPTION:Partit de futbol categoría amateurPartit de futbol categoria amateur , Federació Catalana de Futbol, Quarta CatalanaLloc: CAMP DE FUTBOL MUNICIPALOrganitzador: C.F.ULLASTRELL
URI:https://www.ullastrell.cat/actualitat/agenda/futbol-amateur-ullastrell-cf-escola-viladecavalls.html
CLASS:PUBLIC
END:VEVENT
END:VCALENDAR
