BEGIN:VCALENDAR
VERSION:2.0
CALSCALE:GREGORIAN
PRODID:-//Diputació de Barcelona//DibaCMS//EN
BEGIN:VEVENT
UID:2639
DTSTAMP:20260422T184930
DTSTART:20151108T000000
DTEND:20151108T000000
SUMMARY:FUTBOL BENJAMÍ: CA N'ANGLADA U.D.- ULLASTRELL C.F.
LOCATION:
METHOD:PUBLISH
X-WR-CALNAME:ullastrell@ullastrell.cat
X-WR-TIMEZONE:Europe/Madrid
DESCRIPTION:Partit de futbol , categoria benjamíPartit de futbol, categoria benjamí, 3ª divisió Federació catalana de futbolLloc: CAMP MPAL. CA N'ANGLADAOrganitzador: ULLASTRELL C.F.
URI:https://www.ullastrell.cat/actualitat/agenda/futbol-benjami-ca-nanglada-ud-ullastrell-cf.html
CLASS:PUBLIC
END:VEVENT
END:VCALENDAR
