BEGIN:VCALENDAR
VERSION:2.0
CALSCALE:GREGORIAN
PRODID:-//Diputació de Barcelona//DibaCMS//EN
BEGIN:VEVENT
UID:2640
DTSTAMP:20260422T144806
DTSTART:20151107T180000
DTEND:20151107T000000
SUMMARY:FUTBOL AMATEUR: CAN COLAPI DE TERRASSA- ULLASTRELL C.F.
LOCATION:
METHOD:PUBLISH
X-WR-CALNAME:ullastrell@ullastrell.cat
X-WR-TIMEZONE:Europe/Madrid
DESCRIPTION:PARTIT DE FUTBOL CATEGORIA AMATEURPartit de futbol categoria Amateur , Federació catalana de futbol, 4ª catalanaLloc: CAMP MPAL. POBLE NOU DE TERRASSAOrganitzador: ULLASTRELL C.F.
URI:https://www.ullastrell.cat/actualitat/agenda/futbol-amateur-can-colapi-de-terrassa-ullastrell-cf.html
CLASS:PUBLIC
END:VEVENT
END:VCALENDAR
