BEGIN:VCALENDAR
VERSION:2.0
CALSCALE:GREGORIAN
PRODID:-//Diputació de Barcelona//DibaCMS//EN
BEGIN:VEVENT
UID:2641
DTSTAMP:20260423T035203
DTSTART:20151121T160000
DTEND:20151121T000000
SUMMARY:FUTBOL SALA: ULLASTRELL FUTSAL B -POLINYÀ-A
LOCATION:
METHOD:PUBLISH
X-WR-CALNAME:ullastrell@ullastrell.cat
X-WR-TIMEZONE:Europe/Madrid
DESCRIPTION:Partit de futbol salaPartit de futbol SalaLloc: PISTA POLIESPORTIVAOrganitzador: CLUB ESPORTIU FUTBOL SALA ALVI
URI:https://www.ullastrell.cat/actualitat/agenda/futbol-sala-ullastrell-futsal-b-polinya-a.html
CLASS:PUBLIC
END:VEVENT
END:VCALENDAR
