BEGIN:VCALENDAR
VERSION:2.0
CALSCALE:GREGORIAN
PRODID:-//Diputació de Barcelona//DibaCMS//EN
BEGIN:VEVENT
UID:2642
DTSTAMP:20260423T143648
DTSTART:20151121T123000
DTEND:20151121T000000
SUMMARY:FUTBOL ALEVÍ: C.F.ULLASTRELL- PERICOS DE SANT CUGAT
LOCATION:
METHOD:PUBLISH
X-WR-CALNAME:ullastrell@ullastrell.cat
X-WR-TIMEZONE:Europe/Madrid
DESCRIPTION:Partit de futbol categoría AlevíPartit de futbol categoria aleví, campionats escolars curs 2015-2016Lloc: Camp municipal de futbolOrganitzador: F.C.ULLASTRELL
URI:https://www.ullastrell.cat/actualitat/agenda/futbol-alevi-cfullastrell-pericos-de-sant-cugat.html
CLASS:PUBLIC
END:VEVENT
END:VCALENDAR
