BEGIN:VCALENDAR
VERSION:2.0
CALSCALE:GREGORIAN
PRODID:-//Diputació de Barcelona//DibaCMS//EN
BEGIN:VEVENT
UID:2644
DTSTAMP:20260422T231207
DTSTART:20151121T100000
DTEND:20151121T000000
SUMMARY:FUTBOL PREBENJAMÍ: C.F.ULLASTRELL- JABAC TERRASSA
LOCATION:
METHOD:PUBLISH
X-WR-CALNAME:ullastrell@ullastrell.cat
X-WR-TIMEZONE:Europe/Madrid
DESCRIPTION:Partit de futbol categoría prebenjamíPartit de futbol categoria prebenjamí, campionat escolar curs 2015-2016Lloc: Camp de futbol municipalOrganitzador: C.F.ULLASTRELL
URI:https://www.ullastrell.cat/actualitat/agenda/futbol-prebenjami-cfullastrell-jabac-terrassa.html
CLASS:PUBLIC
END:VEVENT
END:VCALENDAR
