BEGIN:VCALENDAR
VERSION:2.0
CALSCALE:GREGORIAN
PRODID:-//Diputació de Barcelona//DibaCMS//EN
BEGIN:VEVENT
UID:2645
DTSTAMP:20260422T214228
DTSTART:20151128T090000
DTEND:20151128T000000
SUMMARY:FUTBOL PREBENJAMÍ: C.F.MAURINA- C.F.ULLASTRELL
LOCATION:
METHOD:PUBLISH
X-WR-CALNAME:ullastrell@ullastrell.cat
X-WR-TIMEZONE:Europe/Madrid
DESCRIPTION:Partit de futbol categoría prebenjamíPartit de futbol categoria prebenjamí, campionat escolar curs 2015-2016
 
 
http://cfullastrell.blogspot.com.es/Lloc: Camp de futbol municipal La Maurina TerrassaOrganitzador: C.F.ULLASTRELL
URI:https://www.ullastrell.cat/actualitat/agenda/futbol-prebenjami-cfmaurina-cfullastrell.html
CLASS:PUBLIC
END:VEVENT
END:VCALENDAR
