BEGIN:VCALENDAR
VERSION:2.0
CALSCALE:GREGORIAN
PRODID:-//Diputació de Barcelona//DibaCMS//EN
BEGIN:VEVENT
UID:2646
DTSTAMP:20260422T185130
DTSTART:20151122T000000
DTEND:20151122T000000
SUMMARY:FUTBOL BENJAMÍ: SANT PERE NORD- F.C.ULLASTRELL
LOCATION:
METHOD:PUBLISH
X-WR-CALNAME:ullastrell@ullastrell.cat
X-WR-TIMEZONE:Europe/Madrid
DESCRIPTION:Partit de futbol categoría BenjamíPartit de futbol categoria Benjamí, campionat Federació catalana de futbol , tercera divisióLloc: Camp Sant Pere Nord TerrassaOrganitzador: C.F.ULLASTRELL
URI:https://www.ullastrell.cat/actualitat/agenda/futbol-benjami-sant-pere-nord-fcullastrell.html
CLASS:PUBLIC
END:VEVENT
END:VCALENDAR
