BEGIN:VCALENDAR
VERSION:2.0
CALSCALE:GREGORIAN
PRODID:-//Diputació de Barcelona//DibaCMS//EN
BEGIN:VEVENT
UID:2647
DTSTAMP:20260423T044633
DTSTART:20151121T183000
DTEND:20151121T000000
SUMMARY:FUTBOL AMATEUR: PENYA BLAUGRANA SANT CUGAT- C.F.ULLASTRELL
LOCATION:
METHOD:PUBLISH
X-WR-CALNAME:ullastrell@ullastrell.cat
X-WR-TIMEZONE:Europe/Madrid
DESCRIPTION:Partit de futbol categoría amateurPartit de futbol categoria Amateur, Federació Catalana de Futbol Quarta CatalanaLloc: Camp futbol municipal Can Magi de Sant CugatOrganitzador: C.F.ULLASTRELL
URI:https://www.ullastrell.cat/actualitat/agenda/futbol-amateur-penya-blaugrana-sant-cugat-cfullastrell.html
CLASS:PUBLIC
END:VEVENT
END:VCALENDAR
