BEGIN:VCALENDAR
VERSION:2.0
CALSCALE:GREGORIAN
PRODID:-//Diputació de Barcelona//DibaCMS//EN
BEGIN:VEVENT
UID:2648
DTSTAMP:20260422T163018
DTSTART:20151212T180000
DTEND:20151212T000000
SUMMARY:FUTBOL SALA: ULLASTRELL FUTSAL B- V.E.LES FONTS
LOCATION:
METHOD:PUBLISH
X-WR-CALNAME:ullastrell@ullastrell.cat
X-WR-TIMEZONE:Europe/Madrid
DESCRIPTION:Partit de futbol salaPartit de futbol salaLloc: Pista PoliesportivaOrganitzador: ULLASTRELL FUTSAL
URI:https://www.ullastrell.cat/actualitat/agenda/futbol-sala-ullastrell-futsal-b-veles-fonts.html
CLASS:PUBLIC
END:VEVENT
END:VCALENDAR
