BEGIN:VCALENDAR
VERSION:2.0
CALSCALE:GREGORIAN
PRODID:-//Diputació de Barcelona//DibaCMS//EN
BEGIN:VEVENT
UID:2649
DTSTAMP:20260423T044715
DTSTART:20151219T100000
DTEND:20151219T000000
SUMMARY:FUTBOL PREBENJAMÍ: CFULLASTRELL- CERDANYOLA
LOCATION:
METHOD:PUBLISH
X-WR-CALNAME:ullastrell@ullastrell.cat
X-WR-TIMEZONE:Europe/Madrid
DESCRIPTION:Partit de futbol categoría prebenjamíPartit de futbol categoria prebenjamí, jocs escolars curs 2015-2016Lloc: Camp de futbol municipalOrganitzador: FC ULLASTRELL
URI:https://www.ullastrell.cat/actualitat/agenda/futbol-prebenjami-cfullastrell-cerdanyola.html
CLASS:PUBLIC
END:VEVENT
END:VCALENDAR
