BEGIN:VCALENDAR
VERSION:2.0
CALSCALE:GREGORIAN
PRODID:-//Diputació de Barcelona//DibaCMS//EN
BEGIN:VEVENT
UID:2651
DTSTAMP:20260422T161750
DTSTART:20151219T123000
DTEND:20151219T000000
SUMMARY:FUTBOL ALEVÍ: CF ULLASTRELL- CAN MIR
LOCATION:
METHOD:PUBLISH
X-WR-CALNAME:ullastrell@ullastrell.cat
X-WR-TIMEZONE:Europe/Madrid
DESCRIPTION:Partit de futbol categoría prebenjamíPartit de futbol categoria prebenjamí, curs escolar 2015-2016Lloc: Camp de futbol municipalOrganitzador: CF ULLASTRELL
URI:https://www.ullastrell.cat/actualitat/agenda/futbol-alevi-cf-ullastrell-can-mir.html
CLASS:PUBLIC
END:VEVENT
END:VCALENDAR
