BEGIN:VCALENDAR
VERSION:2.0
CALSCALE:GREGORIAN
PRODID:-//Diputació de Barcelona//DibaCMS//EN
BEGIN:VEVENT
UID:2652
DTSTAMP:20260423T065228
DTSTART:20151219T183000
DTEND:20151219T000000
SUMMARY:FUTBOL AMATEUR: MAURINA EGARA CF ULLASTRELL
LOCATION:
METHOD:PUBLISH
X-WR-CALNAME:ullastrell@ullastrell.cat
X-WR-TIMEZONE:Europe/Madrid
DESCRIPTION:Partit de futbol categoría AmateurPartit de futbol , Federació Catalana de Futbol, Quarta CatalanaLloc: Camp de la MaurinaOrganitzador: CF ULLASTRELL
URI:https://www.ullastrell.cat/actualitat/agenda/futbol-amateur-maurina-egara-cf-ullastrell.html
CLASS:PUBLIC
END:VEVENT
END:VCALENDAR
