BEGIN:VCALENDAR
VERSION:2.0
CALSCALE:GREGORIAN
PRODID:-//Diputació de Barcelona//DibaCMS//EN
BEGIN:VEVENT
UID:2653
DTSTAMP:20260423T033054
DTSTART:20160214T093000
DTEND:20160214T000000
SUMMARY:ESCACS
LOCATION:
METHOD:PUBLISH
X-WR-CALNAME:ullastrell@ullastrell.cat
X-WR-TIMEZONE:Europe/Madrid
DESCRIPTION:Lliga Catalana 2016
Ullastrell - Moianès BLloc: Altell del CasalOrganitzador: Club d'Escacs Ullastrell
URI:https://www.ullastrell.cat/actualitat/agenda/escacs.html
CLASS:PUBLIC
END:VEVENT
END:VCALENDAR
