BEGIN:VCALENDAR
VERSION:2.0
CALSCALE:GREGORIAN
PRODID:-//Diputació de Barcelona//DibaCMS//EN
BEGIN:VEVENT
UID:2654
DTSTAMP:20260423T051859
DTSTART:20160221T093000
DTEND:20160221T000000
SUMMARY:ESCACS - Lliga Catalana 2016 - 21/02/2016
LOCATION:
METHOD:PUBLISH
X-WR-CALNAME:ullastrell@ullastrell.cat
X-WR-TIMEZONE:Europe/Madrid
DESCRIPTION:Partides d'escacs dins la Lliga Catalana 2016
Caldes de Montbuí - UllastrellLloc: Caldes de MontbuíOrganitzador: CLUB d'ESCACS
URI:https://www.ullastrell.cat/actualitat/agenda/escacs-lliga-catalana-2016-21022016.html
CLASS:PUBLIC
END:VEVENT
END:VCALENDAR
