BEGIN:VCALENDAR
VERSION:2.0
CALSCALE:GREGORIAN
PRODID:-//Diputació de Barcelona//DibaCMS//EN
BEGIN:VEVENT
UID:2655
DTSTAMP:20260423T015947
DTSTART:20160228T093000
DTEND:20160228T000000
SUMMARY:ESCACS - Lliga Catalana 2016 - 28/02/2016
LOCATION:
METHOD:PUBLISH
X-WR-CALNAME:ullastrell@ullastrell.cat
X-WR-TIMEZONE:Europe/Madrid
DESCRIPTION:Lliga Catalana 2016
Ullastrell - Vall de Tenes BLloc: L'Altell del Casal Cultural d'UllastrellOrganitzador: Club Escacs Ullastrell
URI:https://www.ullastrell.cat/actualitat/agenda/escacs-lliga-catalana-2016-28022016.html
CLASS:PUBLIC
END:VEVENT
END:VCALENDAR
