BEGIN:VCALENDAR
VERSION:2.0
CALSCALE:GREGORIAN
PRODID:-//Diputació de Barcelona//DibaCMS//EN
BEGIN:VEVENT
UID:2656
DTSTAMP:20260423T134706
DTSTART:20160313T120000
DTEND:20160313T000000
SUMMARY:FUTBOL AMATEUR:  CAN BOADA- ULLASTRELL CF
LOCATION:
METHOD:PUBLISH
X-WR-CALNAME:ullastrell@ullastrell.cat
X-WR-TIMEZONE:Europe/Madrid
DESCRIPTION:Partit de futbol categoría amateurPartit de futbol categoria amateur Quarta CatalanaLloc: Camp de Can Boada TerrassaOrganitzador: ULLASTRELL C.F.
URI:https://www.ullastrell.cat/actualitat/agenda/futbol-amateur-can-boada-ullastrell-cf.html
CLASS:PUBLIC
END:VEVENT
END:VCALENDAR
