BEGIN:VCALENDAR
VERSION:2.0
CALSCALE:GREGORIAN
PRODID:-//Diputació de Barcelona//DibaCMS//EN
BEGIN:VEVENT
UID:2657
DTSTAMP:20260423T093221
DTSTART:20160319T183000
DTEND:20160319T000000
SUMMARY:FUTBOL AMATEUR: ULLASTRELL F.C.- Pª BLAUGRANA SANT CUGAT A
LOCATION:
METHOD:PUBLISH
X-WR-CALNAME:ullastrell@ullastrell.cat
X-WR-TIMEZONE:Europe/Madrid
DESCRIPTION:Partit de futbol categoría amateurPartit de Futbol categoria amateur, Quarta catalanaLloc: Camp de futbol municipalOrganitzador: ULLASTRELL F.C.
URI:https://www.ullastrell.cat/actualitat/agenda/futbol-amateur-ullastrell-fc-pa-blaugrana-sant-cugat-a.html
CLASS:PUBLIC
END:VEVENT
END:VCALENDAR
