BEGIN:VCALENDAR
VERSION:2.0
CALSCALE:GREGORIAN
PRODID:-//Diputació de Barcelona//DibaCMS//EN
BEGIN:VEVENT
UID:2658
DTSTAMP:20260422T203056
DTSTART:20160313T100000
DTEND:20160313T000000
SUMMARY:FUTBOL BENJAMÍ: JUAN XXIII- ULLASTRELL F.C.
LOCATION:
METHOD:PUBLISH
X-WR-CALNAME:ullastrell@ullastrell.cat
X-WR-TIMEZONE:Europe/Madrid
DESCRIPTION:Futbol categoría benjamíFutbol categoria benjamí  3ª Divisió Federació catalana de futbolLloc: Camp Municipal de les ArenesOrganitzador: ULLASTRELL F.C.
URI:https://www.ullastrell.cat/actualitat/agenda/futbol-benjami-juan-xxiii-ullastrell-fc.html
CLASS:PUBLIC
END:VEVENT
END:VCALENDAR
