BEGIN:VCALENDAR
VERSION:2.0
CALSCALE:GREGORIAN
PRODID:-//Diputació de Barcelona//DibaCMS//EN
BEGIN:VEVENT
UID:2659
DTSTAMP:20260423T111917
DTSTART:20160312T110000
DTEND:20160312T000000
SUMMARY:FUTBOL PREBENJAMÍ:  ÀGORA SANT CUGAT- ULLASTRELL F.C.
LOCATION:
METHOD:PUBLISH
X-WR-CALNAME:ullastrell@ullastrell.cat
X-WR-TIMEZONE:Europe/Madrid
DESCRIPTION:Partit de futbol categoría prebenjamíCamp de futbol categoria prebenjamí, jocs escolarsLloc: Sant CugatOrganitzador: ULLASTRELL F.C.
URI:https://www.ullastrell.cat/actualitat/agenda/futbol-prebenjami-agora-sant-cugat-ullastrell-fc.html
CLASS:PUBLIC
END:VEVENT
END:VCALENDAR
