BEGIN:VCALENDAR
VERSION:2.0
CALSCALE:GREGORIAN
PRODID:-//Diputació de Barcelona//DibaCMS//EN
BEGIN:VEVENT
UID:2660
DTSTAMP:20260422T220040
DTSTART:20160313T093000
DTEND:20160313T000000
SUMMARY:ESCACS - Lliga Catalana 2016 - 13/03/2016
LOCATION:
METHOD:PUBLISH
X-WR-CALNAME:ullastrell@ullastrell.cat
X-WR-TIMEZONE:Europe/Madrid
DESCRIPTION:Escacs - Lliga Catalana 2016
Ullastrell - Estany BLloc: Altell del CasalOrganitzador: Club d'Escacs
URI:https://www.ullastrell.cat/actualitat/agenda/escacs-lliga-catalana-2016-13032016.html
CLASS:PUBLIC
END:VEVENT
END:VCALENDAR
