BEGIN:VCALENDAR
VERSION:2.0
CALSCALE:GREGORIAN
PRODID:-//Diputació de Barcelona//DibaCMS//EN
BEGIN:VEVENT
UID:2661
DTSTAMP:20260423T161500
DTSTART:20160313T100000
DTEND:20160313T000000
SUMMARY:Vª CURSA DE MUNTANYA - La Serralavella
LOCATION:
METHOD:PUBLISH
X-WR-CALNAME:ullastrell@ullastrell.cat
X-WR-TIMEZONE:Europe/Madrid
DESCRIPTION:Cinquena edició de la Cursa de Muntanya "La Serralavella"
La sortida de la cursa de Muntanya serà davant de l'ajuntament (C/Serra) tot i que els dorsals i el guarda-roba els trobareu a la pista d'activitats esportives, al costat del casal.El circuit consta d'uns 10 Km aprox. que discorren pràcticament en la seva totalitat per terreny sense asfaltar en una zona privilegiada i de gran bellessa.
Prohibit aparcar : Carrer Serra: de La Mola a Plaça Lluis Companys de les 22.00h del dissabte 12 a  les 14h. del diumenge 13. Carrer Serra (de La Mola a Av. Montserrat) de 22h. del dissabte 12 a les 11h. del diumenge 13. Talls de Carrer: El carrer Serra quedarà tallat de 9h del diumenge 13 fins que es doni el tret de sortida de la cursa. Veïnatges de Can Cabassa i El bolet: important, durant el recorregut circuleu amb precaució i fer cas dels voluntaris.
Més informació a:
https://cursaullastrell.wordpress.com/Lloc: C/Serra (davant Ajuntament)Organitzador: AE Correviure Popular
URI:https://www.ullastrell.cat/actualitat/agenda/va-cursa-de-muntanya-la-serralavella.html
CLASS:PUBLIC
END:VEVENT
END:VCALENDAR
