BEGIN:VCALENDAR
VERSION:2.0
CALSCALE:GREGORIAN
PRODID:-//Diputació de Barcelona//DibaCMS//EN
BEGIN:VEVENT
UID:2662
DTSTAMP:20260423T044600
DTSTART:20151108T180000
DTEND:20151108T000000
SUMMARY:ESPECTACLE MUSICAL "SOM GENT ALEGRE"
LOCATION:
METHOD:PUBLISH
X-WR-CALNAME:ullastrell@ullastrell.cat
X-WR-TIMEZONE:Europe/Madrid
DESCRIPTION:L'Associació Cultural Xou "Som gent Alegre" del Casal 1r. de Maig de Rubí ens porta a Ullastrell el seu nou espectacle musical per passar-ho d'allò més bé.
Preu entrada: 3€Lloc: SALA D'ACTES CASAL CULTURALOrganitzador: PATRONAT DEL CASAL
URI:https://www.ullastrell.cat/actualitat/agenda/espectacle-musical-som-gent-alegre.html
CLASS:PUBLIC
END:VEVENT
END:VCALENDAR
