BEGIN:VCALENDAR
VERSION:2.0
CALSCALE:GREGORIAN
PRODID:-//Diputació de Barcelona//DibaCMS//EN
BEGIN:VEVENT
UID:2669
DTSTAMP:20260423T134523
DTSTART:20151121T170000
DTEND:20151121T203000
SUMMARY:DONACIÓ DE SANG - 21/11/2015
LOCATION:
METHOD:PUBLISH
X-WR-CALNAME:ullastrell@ullastrell.cat
X-WR-TIMEZONE:Europe/Madrid
DESCRIPTION:Donació de SangEl Banc de Sang i teixits es desplaçarà a Ullastrell per recollir la sang dels donats d'Ullastrell. Cada dia es necessiten més de 1000 donacions per garantir que tothom tingui sang quan ho necessita: per intervencions quirúrgiques, per a tractaments oncòlogics, per a transplantaments, en cas d'accidents greus. Pots donar sang si, tens18 anys o més, peses 50 kgs. o més.Lloc: SALA EXPOSICIONS DEL CASALOrganitzador: BANC DE SANG I TEIXITS
URI:https://www.ullastrell.cat/actualitat/agenda/donacio-de-sang-21112015.html
CLASS:PUBLIC
END:VEVENT
END:VCALENDAR
