BEGIN:VCALENDAR
VERSION:2.0
CALSCALE:GREGORIAN
PRODID:-//Diputació de Barcelona//DibaCMS//EN
BEGIN:VEVENT
UID:2670
DTSTAMP:20260423T003535
DTSTART:20151203T170000
DTEND:20151203T190000
SUMMARY:TALLER "CUINA SENSE PARES"
LOCATION:
METHOD:PUBLISH
X-WR-CALNAME:ullastrell@ullastrell.cat
X-WR-TIMEZONE:Europe/Madrid
DESCRIPTION:Acostem el món culinari als jovesLa Diputació de Barcelona ofereix aquests tallers per acostar la cuina als més joves i d'aquesta manera fer-los particeps d'elaborar una bona dieta.
A Ullastrell el realitzarem el dijous 3 de desembre de 5 a 7 de la tarda a la cuina de les antigues escoles.
Per apuntar-vos cal que tingueu entre 14 - 18 anys i podeu trucar o enviar mail a l'Ajuntament (ullastrell@ullastrell.cat) per reservar lloc.
Taller gratuït / Aforament limitatLloc: Pl. Escoles, 2Organitzador: Regs. Salut i Joventut
URI:https://www.ullastrell.cat/actualitat/agenda/taller-cuina-sense-pares.html
CLASS:PUBLIC
END:VEVENT
END:VCALENDAR
