BEGIN:VCALENDAR
VERSION:2.0
CALSCALE:GREGORIAN
PRODID:-//Diputació de Barcelona//DibaCMS//EN
BEGIN:VEVENT
UID:2671
DTSTAMP:20260422T230932
DTSTART:20151204T083000
DTEND:20151215T163000
SUMMARY:Exposició "CUIDA'T LES DENTS"
LOCATION:
METHOD:PUBLISH
X-WR-CALNAME:ullastrell@ullastrell.cat
X-WR-TIMEZONE:Europe/Madrid
DESCRIPTION:Els infants podran visitar aquests dies l'exposició itinerant organitzada per la Diputació de  Barcelona, "Cuida't les dents", que té com a objectiu promoure uns hàbits saludables d'higiene bucodental entre la població infantil.
Una exposició sempre és una bona manera de transmetre lúdicament conceptes i bons hàbits, sobretot si va adreçada als infants. I això és important si es tracta de fomentar-hi hàbits de salut.
Aquesta mostra, organitzada per Salut Pública de la Diputació, està oberta a tothom peró bàsicament s'adreça a nens i nenes d'entre 5 i 8 anys, i va acompanyada d'una guia que conté activitats directament relacionades amb els continguts de l'exposició, per poder treballar-los a l'aula després de la  visita.
Estarà ubicada al llarg d'aquests dies a l'entrada de l'Escola Serralavella.Lloc: Escola SERRALAVELLAOrganitzador: Reg. Salut
URI:https://www.ullastrell.cat/actualitat/agenda/exposicio-cuidat-les-dents.html
CLASS:PUBLIC
END:VEVENT
END:VCALENDAR
