BEGIN:VCALENDAR
VERSION:2.0
CALSCALE:GREGORIAN
PRODID:-//Diputació de Barcelona//DibaCMS//EN
BEGIN:VEVENT
UID:2672
DTSTAMP:20260422T231042
DTSTART:20160226T153000
DTEND:20160226T200000
SUMMARY:DONACIÓ DE SANG - 26/02/2016
LOCATION:
METHOD:PUBLISH
X-WR-CALNAME:ullastrell@ullastrell.cat
X-WR-TIMEZONE:Europe/Madrid
DESCRIPTION:Els alumnes de 2n A organitzen aquesta campanya de donació de sang juntament amb el Banc de Sang i Teixits.Lloc: Escola Serralavella - Aula de PsicomotricitatOrganitzador: Escola Serralavella
URI:https://www.ullastrell.cat/actualitat/agenda/donacio-de-sang-26022016.html
CLASS:PUBLIC
END:VEVENT
END:VCALENDAR
