BEGIN:VCALENDAR
VERSION:2.0
CALSCALE:GREGORIAN
PRODID:-//Diputació de Barcelona//DibaCMS//EN
BEGIN:VEVENT
UID:2673
DTSTAMP:20260423T044913
DTSTART:20160420T160000
DTEND:20160420T190000
SUMMARY:CURS MANIPULADOR D'ALIMENTS
LOCATION:
METHOD:PUBLISH
X-WR-CALNAME:ullastrell@ullastrell.cat
X-WR-TIMEZONE:Europe/Madrid
DESCRIPTION:Amb el suport de la Diputació de Barcelona, es portarà a terme un curs formatiu de Manipuladors d'aliments.Aquest curs, organitzat des de la Regidoria de Salut amb el suport de la Diputació de Barcelona, és de caire gratuït i va dirigit per totes aquelles persones que formin part del procés de la cadena alimentària.
Es poden apuntar totes aquelles persones que estiguin empadronades a Ullastrell i estiguin interessades en obtenir el carnet o aquelles que treballin a empreses locals del sector.
Per apuntar-se cal trucar a l'Ajuntament (93.788.72.62) i donar el nom i telèfon de contacte de la persona que realitzarà el curs. El curs es realitzarà a la Sala Polivalent de l'Ajuntament.
Les places són limitades, últim dia per apuntar-se el dilluns 18 d'abril a les 14h.
 Lloc: SALA POLIVALENT DE L'AJUNTAMENTOrganitzador: Reg. Salut
URI:https://www.ullastrell.cat/actualitat/agenda/curs-manipulador-daliments.html
CLASS:PUBLIC
END:VEVENT
END:VCALENDAR
