BEGIN:VCALENDAR
VERSION:2.0
CALSCALE:GREGORIAN
PRODID:-//Diputació de Barcelona//DibaCMS//EN
BEGIN:VEVENT
UID:2675
DTSTAMP:20260423T003816
DTSTART:20151017T080000
DTEND:20151017T150000
SUMMARY:BATUDA DEL SENGLAR - 17/10/2015
LOCATION:
METHOD:PUBLISH
X-WR-CALNAME:ullastrell@ullastrell.cat
X-WR-TIMEZONE:Europe/Madrid
DESCRIPTION:Batuda de senglar a la zona del Bolet durant tot el matí i migdia.Lloc: Zona del BoletOrganitzador: Societat de Caçadors
URI:https://www.ullastrell.cat/actualitat/agenda/batuda-del-senglar-17102015.html
CLASS:PUBLIC
END:VEVENT
END:VCALENDAR
