BEGIN:VCALENDAR
VERSION:2.0
CALSCALE:GREGORIAN
PRODID:-//Diputació de Barcelona//DibaCMS//EN
BEGIN:VEVENT
UID:2677
DTSTAMP:20260422T143616
DTSTART:20151107T070000
DTEND:20151107T000000
SUMMARY:BATUDA DEL SENGLAR - 07/11/2015
LOCATION:
METHOD:PUBLISH
X-WR-CALNAME:ullastrell@ullastrell.cat
X-WR-TIMEZONE:Europe/Madrid
DESCRIPTION:BATUDA DEL SENGLARBATUDA DEL SENGLAR a les zones de Can Puig, la Roureda i Can Font.Lloc: TERME MUNICIPALOrganitzador: ASSOCIACIÓ DE CAÇADORS
URI:https://www.ullastrell.cat/actualitat/agenda/batuda-del-senglar-07112015.html
CLASS:PUBLIC
END:VEVENT
END:VCALENDAR
