BEGIN:VCALENDAR
VERSION:2.0
CALSCALE:GREGORIAN
PRODID:-//Diputació de Barcelona//DibaCMS//EN
BEGIN:VEVENT
UID:2680
DTSTAMP:20260422T143544
DTSTART:20151028T180000
DTEND:20151028T200000
SUMMARY:Tastet de la Carbassa de Halloween
LOCATION:
METHOD:PUBLISH
X-WR-CALNAME:ullastrell@ullastrell.cat
X-WR-TIMEZONE:Europe/Madrid
DESCRIPTION:Tastet de la Carbassa de HalloweenLloc: Espai jove - Casetes Camp de FutbolOrganitzador: 
URI:https://www.ullastrell.cat/actualitat/agenda/tastet-de-la-carbassa-de-halloween.html
CLASS:PUBLIC
END:VEVENT
END:VCALENDAR
