BEGIN:VCALENDAR
VERSION:2.0
CALSCALE:GREGORIAN
PRODID:-//Diputació de Barcelona//DibaCMS//EN
BEGIN:VEVENT
UID:2681
DTSTAMP:20260422T214042
DTSTART:20151023T173000
DTEND:20151023T183000
SUMMARY:Campionat de PLAY STATION 3
LOCATION:
METHOD:PUBLISH
X-WR-CALNAME:ullastrell@ullastrell.cat
X-WR-TIMEZONE:Europe/Madrid
DESCRIPTION:Campionat de Play Station 3
Divendres 23, a les 17:30h (Black Ops)Lloc: Espai Jove | Casetes Camp de FutbolOrganitzador: 
URI:https://www.ullastrell.cat/actualitat/agenda/campionat-de-play-station-3.html
CLASS:PUBLIC
END:VEVENT
END:VCALENDAR
