BEGIN:VCALENDAR
VERSION:2.0
CALSCALE:GREGORIAN
PRODID:-//Diputació de Barcelona//DibaCMS//EN
BEGIN:VEVENT
UID:2682
DTSTAMP:20260423T044310
DTSTART:20160219T180000
DTEND:20160219T000000
SUMMARY:ESPAI JOVE - Tastet d'Escacs
LOCATION:
METHOD:PUBLISH
X-WR-CALNAME:ullastrell@ullastrell.cat
X-WR-TIMEZONE:Europe/Madrid
DESCRIPTION:Els memebres del Club d'Escacs visiten l'Espai Jove i ofereixen un petit taller per a qui vulgui aprendre Escacs o perfeccionar el nivell.Lloc: Casetes camp futbolOrganitzador: Espai Jove i Club d'Escacs
URI:https://www.ullastrell.cat/actualitat/agenda/espai-jove-tastet-descacs.html
CLASS:PUBLIC
END:VEVENT
END:VCALENDAR
