BEGIN:VCALENDAR
VERSION:2.0
CALSCALE:GREGORIAN
PRODID:-//Diputació de Barcelona//DibaCMS//EN
BEGIN:VEVENT
UID:2683
DTSTAMP:20260422T213952
DTSTART:20160226T200000
DTEND:20160226T000000
SUMMARY:ESPAI JOVE - Expediente Warren
LOCATION:
METHOD:PUBLISH
X-WR-CALNAME:ullastrell@ullastrell.cat
X-WR-TIMEZONE:Europe/Madrid
DESCRIPTION:Projecció: "EXPEDIENTE WARREN" a l'Espai JoveLloc: Casetes del camp de futbolOrganitzador: Joventut
URI:https://www.ullastrell.cat/actualitat/agenda/espai-jove-expediente-warren.html
CLASS:PUBLIC
END:VEVENT
END:VCALENDAR
