BEGIN:VCALENDAR
VERSION:2.0
CALSCALE:GREGORIAN
PRODID:-//Diputació de Barcelona//DibaCMS//EN
BEGIN:VEVENT
UID:2684
DTSTAMP:20260423T133912
DTSTART:20160325T180000
DTEND:20160325T000000
SUMMARY:ESPAI JOVE
LOCATION:
METHOD:PUBLISH
X-WR-CALNAME:ullastrell@ullastrell.cat
X-WR-TIMEZONE:Europe/Madrid
DESCRIPTION:Passi de l'audiovisual " Tu vida en 65' "Lloc: Casetes del Camp de FutbolOrganitzador: Espai Jove
URI:https://www.ullastrell.cat/actualitat/agenda/2684-espai-jove.html
CLASS:PUBLIC
END:VEVENT
END:VCALENDAR
