BEGIN:VCALENDAR
VERSION:2.0
CALSCALE:GREGORIAN
PRODID:-//Diputació de Barcelona//DibaCMS//EN
BEGIN:VEVENT
UID:2685
DTSTAMP:20260423T035443
DTSTART:20160418T203000
DTEND:20160418T000000
SUMMARY:SESSIÓ INFORMATIVA amb els MOSSOS d'ESQUADRA
LOCATION:
METHOD:PUBLISH
X-WR-CALNAME:ullastrell@ullastrell.cat
X-WR-TIMEZONE:Europe/Madrid
DESCRIPTION:El dia 18 d' abril de 2016 a les 20:30 els  Mossos d' Esquadra oferiran una  xerrada sobre "consells de seguretat  al domicili " a la Biblioteca Municipal.
Després de la bona acollida que va tenir a la sessió que es va realitzar a Ca n' Amat  s' ha considerat interessant tornar-la a fer per tots els vilatans d' Ullastrell.
Es tracta d' una sessió dinàmica i participativa, durant la mateixa sessió podreu consultar i transmetre les vostres inquietuds personalment als Mossos
Esperem la vostra assistènciaLloc: BIBLIOTECA J.MASSAGUÉOrganitzador: Reg. Governació
URI:https://www.ullastrell.cat/actualitat/agenda/sessio-informativa-amb-els-mossos-desquadra.html
CLASS:PUBLIC
END:VEVENT
END:VCALENDAR
