BEGIN:VCALENDAR
VERSION:2.0
CALSCALE:GREGORIAN
PRODID:-//Diputació de Barcelona//DibaCMS//EN
BEGIN:VEVENT
UID:2686
DTSTAMP:20260423T044539
DTSTART:20160529T180000
DTEND:20160529T000000
SUMMARY:CELEBRACIÓ DEL CORPUS
LOCATION:
METHOD:PUBLISH
X-WR-CALNAME:ullastrell@ullastrell.cat
X-WR-TIMEZONE:Europe/Madrid
DESCRIPTION:Missa cantada per la Coral d'UllastrellAmb motiu de la diada de Corpus, a les 18 hores missa cantada per la Coral d'Ullastrell, acabada la missa processó fins el Turó del Rector, per beneir tot el terme municipal.
Acabada la missa petit concert de la Coral d'Ullastrell.
A la plaça de l'església s'instal.larà el tradicional "ou com balla"Lloc: ESGLÉSIA DE SANTA MARIAOrganitzador: PARRÒQUIA DE SANTA MARIA
URI:https://www.ullastrell.cat/actualitat/agenda/celebracio-del-corpus.html
CLASS:PUBLIC
END:VEVENT
END:VCALENDAR
