BEGIN:VCALENDAR
VERSION:2.0
CALSCALE:GREGORIAN
PRODID:-//Diputació de Barcelona//DibaCMS//EN
BEGIN:VEVENT
UID:2687
DTSTAMP:20260423T044832
DTSTART:20160604T090000
DTEND:20160604T133000
SUMMARY:DEIXALLERIA MÒBIL - 04/06/2016
LOCATION:
METHOD:PUBLISH
X-WR-CALNAME:ullastrell@ullastrell.cat
X-WR-TIMEZONE:Europe/Madrid
DESCRIPTION:La deixalleria mòbil és un servei gratuït que s'ofereix cada primer dissabte de mes, on la gent pot anar en els llocs esmentats i un camió recull tots aquells materials que no es poden dipositar en els contenidor habituals, tals com, pintures, vernissos, esprais, radiografies, olis de cotxe i de cuina, petits electrodomèstics, ferralla informàtica etc.
 
Pl. Lluís Companys     	de  9h. a 10:45h.  Pl. Serralavella 	       de 10:50h. a 12:15h. C/Arquitecte Alsius   de 12:30h. a 13:30h.
 
Per recollida de trastos vells, objectes voluminosos, poda, etc... cal trucar al 902.464.465 (93.788.49.90) i us ho passaran a recollir gratuitament a casa.
*Deixar aquest tipus de residus al costat del contenidor és sancionable amb 750€ segons ordenança municipal)Lloc: Pl. LLuís Companys, Pl. Serralavella, C/ Arquitecte AlsiusOrganitzador: Reg. Medi Ambient
URI:https://www.ullastrell.cat/actualitat/agenda/deixalleria-mobil-04062016.html
CLASS:PUBLIC
END:VEVENT
END:VCALENDAR
