BEGIN:VCALENDAR
VERSION:2.0
CALSCALE:GREGORIAN
PRODID:-//Diputació de Barcelona//DibaCMS//EN
BEGIN:VEVENT
UID:2688
DTSTAMP:20260423T130220
DTSTART:20160605T120000
DTEND:20160605T000000
SUMMARY:MUSICAL INFANTIL: " GISELA Y EL LIBRO MÁGICO"
LOCATION:
METHOD:PUBLISH
X-WR-CALNAME:ullastrell@ullastrell.cat
X-WR-TIMEZONE:Europe/Madrid
DESCRIPTION:El GATU porta a Ullastrell aquest espectacle musical, amb la cantant Gisela entre altres artistes... i algun de local!
Estan programats dos passes: A les 12 del migdia i a les 7 de la tarda
Venda d'entrades :
www.entradas.show
www.atrapalo.com
Reserves: 661.64.84.27
 Lloc: SALA ACTES DEL CASALOrganitzador: GATU
URI:https://www.ullastrell.cat/actualitat/agenda/musical-infantil--gisela-y-el-libro-magico.html
CLASS:PUBLIC
END:VEVENT
END:VCALENDAR
