BEGIN:VCALENDAR
VERSION:2.0
CALSCALE:GREGORIAN
PRODID:-//Diputació de Barcelona//DibaCMS//EN
BEGIN:VEVENT
UID:2689
DTSTAMP:20260423T020057
DTSTART:20160527T203000
DTEND:20160527T000000
SUMMARY:TU FAS ULLASTRELL - 27/05/2016
LOCATION:
METHOD:PUBLISH
X-WR-CALNAME:ullastrell@ullastrell.cat
X-WR-TIMEZONE:Europe/Madrid
DESCRIPTION:Un any més, la Secció Local d'Esquerra-Ullastrell vol agrair la tasca que es fa des de les entitats, associacions, col·lectius locals i enguany celebrarà la NOVENA edició dels premis "TU FAS ULLASTRELL".
Aquesta celebració neix amb la voluntat de reconèixer la tasca que moltes persones i entitats municipals fan, de forma voluntària, anònima i altruista, pel poble. Aquest fenomen enriqueix Ullastrell i el situa com un poble viu i dinàmic, amb un teixit humà, social i cultural que creix i que és reconegut per molts altres pobles i ciutats de l'entorn.
Cal celebrar-ho perquè és així com s'ha de treballar pel poble: sumant els esforços de totes i tots els que en formem part. Conscients de la importància de la tasca de totes i cadascuna de les persones que formeu part de les entitats del nostre poble, volem convidar-vos a participar en aquesta celebració. Perquè tots fem Ullastrell!
Aquest any s'ha decidit atorgar el premi a l'Equip Docent de l'Escola Serralavella. Més enllà de l'estrictament professional, l'equip de mestres de l'escola treballa amb una mirada crítica a la societat, aportant als infants tot el què es necessita per a poder implicar-se en els canvis que el nostre entorn social necessita amb l'objectiu de fer  un món millor, amb valors i principis des de l'arrel.
La celebració serà el proper divendres 27 de maig a les 20:30h. a la plaça de les Escoles.
L'acte:
Benvinguda a càrrec del Sr. Jaume Puig, President secció local ERCParlament Sr. Joan Ballbè, Alcalde d'Ullastrell per ERCParlament Sr. Marc Sanglas, Diputat del Vallès Occidental per ERCSopar obert a tothom (prèvia inscripció) * Parlament Sra. Anna Simó, Secretària Primera del Parlament de CatalunyaEntrega del premi "Tu fas Ullastrell"  Actuació d'Improvisació Teatral a càrrec de la companyia "ImproImpro" amb l'espectacle "UllastrErc Improvisa"
 Lloc: Plaça de les EscolesOrganitzador: ERC Ullastrell
URI:https://www.ullastrell.cat/actualitat/agenda/tu-fas-ullastrell-27052016.html
CLASS:PUBLIC
END:VEVENT
END:VCALENDAR
