BEGIN:VCALENDAR
VERSION:2.0
CALSCALE:GREGORIAN
PRODID:-//Diputació de Barcelona//DibaCMS//EN
BEGIN:VEVENT
UID:2690
DTSTAMP:20260423T140754
DTSTART:20160528T123000
DTEND:20160528T133000
SUMMARY:CONCENTRACIÓ DE MOTOS VESPES
LOCATION:
METHOD:PUBLISH
X-WR-CALNAME:ullastrell@ullastrell.cat
X-WR-TIMEZONE:Europe/Madrid
DESCRIPTION:Novament organitzat des des del Club Soulvespa de Terrassa, a Ullastrell faran parada i exhibició de les motos vespa provinents de la ruta Escuterista Vallesana.
 
S'exposaran totes les vespes al carrer Serra (davant Ajuntament) de 12:30 a 13:30h.

*Per aquest motiu no es podrà aparcar en aquest tram segons cartells indicats.
 Lloc: SERRA - Davant AjuntamentOrganitzador: SOULVESPA SCOOTER CLUB TERRASSA
URI:https://www.ullastrell.cat/actualitat/agenda/concentracio-de-motos-vespes.html
CLASS:PUBLIC
END:VEVENT
END:VCALENDAR
