BEGIN:VCALENDAR
VERSION:2.0
CALSCALE:GREGORIAN
PRODID:-//Diputació de Barcelona//DibaCMS//EN
BEGIN:VEVENT
UID:2691
DTSTAMP:20260423T071409
DTSTART:20160529T200000
DTEND:20160529T000000
SUMMARY:PARADÍS PINTAT un espectacle de la pallassa Pepa Plana
LOCATION:
METHOD:PUBLISH
X-WR-CALNAME:ullastrell@ullastrell.cat
X-WR-TIMEZONE:Europe/Madrid
DESCRIPTION:PARADÍS PINTAT és una oportunitat única de veure i conèixer a la Pepa Plana amb la pre-estrena del seu últim espectacle abans de la seva estrena absoluta el proper 14 de juliol del 2016 en el marc del Festival Grec de Barcelona on hi farà dues funcions, els dies 15 i 16 de juliol.
Venda d'entrades:
ANTICIPADA 12€: A la Biblioteca Josep Massagué d'Ullastrell de 16:30h a 20h. fins divendres 27 maig. (93.730.44.38)
TAQUILLA 15€: A partir de les 19:30h a la mateixa taquilla del teatre
Reserves a: reservesteatrell@gmail.com
Després de l'espectacle hi haurà un col.loqui amb Pepa Plana i els assistents podran transmetre-li les seves impressions i ser partícips en primera persona del procés creatiu del muntatge.
 
www.pepaplana.comLloc: Sala d'ActesOrganitzador: Casal Cultural d'Ullastrell
URI:https://www.ullastrell.cat/actualitat/agenda/paradis-pintat-un-espectacle-de-la-pallassa-pepa-plana.html
CLASS:PUBLIC
END:VEVENT
END:VCALENDAR
