BEGIN:VCALENDAR
VERSION:2.0
CALSCALE:GREGORIAN
PRODID:-//Diputació de Barcelona//DibaCMS//EN
BEGIN:VEVENT
UID:2692
DTSTAMP:20260423T110119
DTSTART:20160609T213000
DTEND:20160609T000000
SUMMARY:POUM - SESSIÓ INFORMATIVA  - 09/06/2016
LOCATION:
METHOD:PUBLISH
X-WR-CALNAME:ullastrell@ullastrell.cat
X-WR-TIMEZONE:Europe/Madrid
DESCRIPTION:Es portarà a terme una primera sessió informativa del contingut del POUM que es troba en fase d'aprovació inicial.
La regidora d'Urbanisme explicarà cada apartat del POUM i es finalitzarà amb un torn obert de preguntes per tal de respondre tots aquells dubtes que pugui generar el POUM.
 
 
PROPERES JORNADES DE PARTICIPACIÓ APROVACIÓ INICIAL
2ª Sessió
16/06/2016 a les 20:00 Ajuntament Nomes Urbanístiques
3ª Sessió
22/06/2016 a les 20:00 Ajuntament Catàleg de Bens i de Masies
4ª Sessió
29/06/2016 a les 20:00 Ajuntament Pla de Mobilitat i informe de sostenibilitat
 Lloc: AjuntamentOrganitzador: Reg. Urbanisme
URI:https://www.ullastrell.cat/actualitat/agenda/poum-sessio-informativa-09062016.html
CLASS:PUBLIC
END:VEVENT
END:VCALENDAR
