BEGIN:VCALENDAR
VERSION:2.0
CALSCALE:GREGORIAN
PRODID:-//Diputació de Barcelona//DibaCMS//EN
BEGIN:VEVENT
UID:2693
DTSTAMP:20260423T121149
DTSTART:20160604T090000
DTEND:20160604T000000
SUMMARY:TORNEIG FUTBOL
LOCATION:
METHOD:PUBLISH
X-WR-CALNAME:ullastrell@ullastrell.cat
X-WR-TIMEZONE:Europe/Madrid
DESCRIPTION:Torneig de futbol de les categories Aleví i Pre-Benjamí A
Durant tot el matí al camp municipal.Lloc: Camp MunicipalOrganitzador: C.F. Ullastrell
URI:https://www.ullastrell.cat/actualitat/agenda/torneig-futbol.html
CLASS:PUBLIC
END:VEVENT
END:VCALENDAR
