BEGIN:VCALENDAR
VERSION:2.0
CALSCALE:GREGORIAN
PRODID:-//Diputació de Barcelona//DibaCMS//EN
BEGIN:VEVENT
UID:2694
DTSTAMP:20260423T135258
DTSTART:20160606T203000
DTEND:20160606T213000
SUMMARY:REUNIÓ DE BARRI - La Serra
LOCATION:
METHOD:PUBLISH
X-WR-CALNAME:ullastrell@ullastrell.cat
X-WR-TIMEZONE:Europe/Madrid
DESCRIPTION:Amb la voluntat d'escoltar de prop les diferents opinions dels veïns, propostes, crítiques, idees, suggerències, queixes,...El Govern municipal va engegar les "Reunions de Barri".
Us convidem a assistir a la pròxima reunió del barri de:LA SERRA
DIA:      DILLUNS 6 de JUNY de 2016HORA:  de 20:30h. a 21:30h.LLOC: Pl. Lluís Companys
Per qualsevol dubte o consulta us podeu posar en contacteal telèfon 93.788.72.62 o al mail ullastrell@ullastrell.cat
Us hi esperem!
 Lloc: Pl. Lluís CompanysOrganitzador: Ajuntament d'Ullastrell
URI:https://www.ullastrell.cat/actualitat/agenda/reunio-de-barri-la-serra.html
CLASS:PUBLIC
END:VEVENT
END:VCALENDAR
